BEGIN:VCALENDAR
VERSION:2.0
PRODID:-//The Libertarian Party of Chester County, PA - ECPv6.15.20//NONSGML v1.0//EN
CALSCALE:GREGORIAN
METHOD:PUBLISH
X-ORIGINAL-URL:https://lpchesco.com
X-WR-CALDESC:Events for The Libertarian Party of Chester County, PA
REFRESH-INTERVAL;VALUE=DURATION:PT1H
X-Robots-Tag:noindex
X-PUBLISHED-TTL:PT1H
BEGIN:VTIMEZONE
TZID:America/New_York
BEGIN:DAYLIGHT
TZOFFSETFROM:-0500
TZOFFSETTO:-0400
TZNAME:EDT
DTSTART:20200308T070000
END:DAYLIGHT
BEGIN:STANDARD
TZOFFSETFROM:-0400
TZOFFSETTO:-0500
TZNAME:EST
DTSTART:20201101T060000
END:STANDARD
BEGIN:DAYLIGHT
TZOFFSETFROM:-0500
TZOFFSETTO:-0400
TZNAME:EDT
DTSTART:20210314T070000
END:DAYLIGHT
BEGIN:STANDARD
TZOFFSETFROM:-0400
TZOFFSETTO:-0500
TZNAME:EST
DTSTART:20211107T060000
END:STANDARD
BEGIN:DAYLIGHT
TZOFFSETFROM:-0500
TZOFFSETTO:-0400
TZNAME:EDT
DTSTART:20220313T070000
END:DAYLIGHT
BEGIN:STANDARD
TZOFFSETFROM:-0400
TZOFFSETTO:-0500
TZNAME:EST
DTSTART:20221106T060000
END:STANDARD
END:VTIMEZONE
BEGIN:VEVENT
DTSTART;TZID=America/New_York:20210817T183000
DTEND;TZID=America/New_York:20210817T200000
DTSTAMP:20260423T143013
CREATED:20210118T210611Z
LAST-MODIFIED:20210304T021050Z
UID:327-1629225000-1629230400@lpchesco.com
SUMMARY:Monthly Meeting - August 2021
DESCRIPTION:Join us at our regular monthly meetings each month! During lock downs we also stream via Zoom. Sign up for our mailing list at info@chescolp.com \n6:30 pm (gathering\, socializing\, ordering food and beverages)\n7:00 pm (official start of the meeting) \nLet us know you’re coming at our Facebook page or with a quick email to info@lpchesco.com.  We look forward to seeing you there!
URL:https://lpchesco.com/event/monthly-meeting-august-2021/
LOCATION:Timothy’s West Chester\, 929 S High St\, West Chester\, PA\, 19382\, United States
CATEGORIES:Monthly Meetings
ATTACH;FMTTYPE=image/png:https://lpchesco.com/wp-content/uploads/2021/03/Timothys_GoogleMap.png
END:VEVENT
BEGIN:VEVENT
DTSTART;TZID=America/New_York:20210720T183000
DTEND;TZID=America/New_York:20210720T200000
DTSTAMP:20260423T143013
CREATED:20210118T210518Z
LAST-MODIFIED:20210304T144114Z
UID:325-1626805800-1626811200@lpchesco.com
SUMMARY:Monthly Meeting - July 2021
DESCRIPTION:Join us at our regular monthly meetings each month! During lock downs we also stream via Zoom. Sign up for our mailing list at info@chescolp.com \n6:30 pm (gathering\, socializing\, ordering food and beverages)\n7:00 pm (official start of the meeting) \nLet us know you’re coming at our Facebook page or with a quick email to info@lpchesco.com.  We look forward to seeing you there!
URL:https://lpchesco.com/event/monthly-meeting-july-2021/
LOCATION:Timothy’s West Chester\, 929 S High St\, West Chester\, PA\, 19382\, United States
CATEGORIES:Monthly Meetings
ATTACH;FMTTYPE=image/png:https://lpchesco.com/wp-content/uploads/2021/03/Timothys_GoogleMap.png
END:VEVENT
BEGIN:VEVENT
DTSTART;TZID=America/New_York:20210630T190000
DTEND;TZID=America/New_York:20210630T203000
DTSTAMP:20260423T143013
CREATED:20210623T125056Z
LAST-MODIFIED:20210623T125056Z
UID:485-1625079600-1625085000@lpchesco.com
SUMMARY:Libertarian Social Meeting in Phoenixville
DESCRIPTION:Join the Chester County Libertarians for a social evening in Phoenixville on Wednesday June 30th at 7 pm. We will be meeting at Uncle B’s BBQ at 425 Bridge Street. We will be discussing upcoming elections and volunteer plans and ideas you have on local liberty.
URL:https://lpchesco.com/event/libertarian-social-meeting-in-phoenixville/
LOCATION:Uncle B’s BBq\, 425 Bridege Street\, Phonenixville\, PA\, 19460\, United States
ORGANIZER;CN="LPCC":MAILTO:info@lpchesco.com
END:VEVENT
BEGIN:VEVENT
DTSTART;TZID=America/New_York:20210628T090000
DTEND;TZID=America/New_York:20210628T090000
DTSTAMP:20260423T143013
CREATED:20210621T121420Z
LAST-MODIFIED:20210621T121420Z
UID:480-1624870800-1624870800@lpchesco.com
SUMMARY:Camp Cleanup Saturday\, June 26th
DESCRIPTION:The LPCC will be doing some grounds maintenance at Bournelyf Special Camp at 1070 S New St\, West Chester\, PA. We will meet in the parking lot at 9 am and work on fluffing up the much under the play areas. The work is expected to last for 90 minutes – 2 hours. You are welcome top join us in their volunteer effort on their beautiful campus. Rakes would be helpful. \n 
URL:https://lpchesco.com/event/camp-cleanup-saturday-june-26th/
LOCATION:PA
CATEGORIES:Volunteer
ORGANIZER;CN="LPCC":MAILTO:info@lpchesco.com
END:VEVENT
BEGIN:VEVENT
DTSTART;TZID=America/New_York:20210615T183000
DTEND;TZID=America/New_York:20210615T200000
DTSTAMP:20260423T143013
CREATED:20210118T205625Z
LAST-MODIFIED:20210304T020631Z
UID:323-1623781800-1623787200@lpchesco.com
SUMMARY:Monthly Meeting - June 2021
DESCRIPTION:Join us at our regular monthly meetings each month! During lock downs we also stream via Zoom. Sign up for our mailing list at info@chescolp.com \n6:30 pm (gathering\, socializing\, ordering food and beverages)\n7:00 pm (official start of the meeting) \nLet us know you’re coming at our Facebook page or with a quick email to info@lpchesco.com.  We look forward to seeing you there!
URL:https://lpchesco.com/event/monthly-meeting-june-2021/
LOCATION:Timothy’s West Chester\, 929 S High St\, West Chester\, PA\, 19382\, United States
CATEGORIES:Monthly Meetings
ATTACH;FMTTYPE=image/png:https://lpchesco.com/wp-content/uploads/2021/03/Timothys_GoogleMap.png
END:VEVENT
BEGIN:VEVENT
DTSTART;TZID=America/New_York:20210525T183000
DTEND;TZID=America/New_York:20210525T200000
DTSTAMP:20260423T143013
CREATED:20210118T205417Z
LAST-MODIFIED:20210421T124636Z
UID:321-1621967400-1621972800@lpchesco.com
SUMMARY:Monthly Meeting - May 2021
DESCRIPTION:Join us at our regular monthly meetings each month! During lock downs we also stream via Zoom. Sign up for our mailing list at info@chescolp.com \n6:30 pm (gathering\, socializing\, ordering food and beverages)\n7:00 pm (official start of the meeting) \nLet us know you’re coming at our Facebook page or with a quick email to info@lpchesco.com.  We look forward to seeing you there!
URL:https://lpchesco.com/event/monthly-meeting-may-2021/
LOCATION:Timothy’s West Chester\, 929 S High St\, West Chester\, PA\, 19382\, United States
CATEGORIES:Monthly Meetings
ATTACH;FMTTYPE=image/png:https://lpchesco.com/wp-content/uploads/2021/03/Timothys_GoogleMap.png
END:VEVENT
BEGIN:VEVENT
DTSTART;TZID=America/New_York:20210420T183000
DTEND;TZID=America/New_York:20210420T200000
DTSTAMP:20260423T143013
CREATED:20210118T205215Z
LAST-MODIFIED:20210304T144048Z
UID:319-1618943400-1618948800@lpchesco.com
SUMMARY:Monthly Meeting - April 2021
DESCRIPTION:Join us at our regular monthly meetings each month! During lock downs we also stream via Zoom. Sign up for our mailing list at info@chescolp.com \n6:30 pm (gathering\, socializing\, ordering food and beverages)\n7:00 pm (official start of the meeting) \nLet us know you’re coming at our Facebook page or with a quick email to info@lpchesco.com.  We look forward to seeing you there!
URL:https://lpchesco.com/event/monthly-meeting-april-2021/
LOCATION:Timothy’s West Chester\, 929 S High St\, West Chester\, PA\, 19382\, United States
CATEGORIES:Monthly Meetings
ATTACH;FMTTYPE=image/png:https://lpchesco.com/wp-content/uploads/2021/03/Timothys_GoogleMap.png
END:VEVENT
BEGIN:VEVENT
DTSTART;TZID=America/New_York:20210316T183000
DTEND;TZID=America/New_York:20210316T200000
DTSTAMP:20260423T143013
CREATED:20210118T203919Z
LAST-MODIFIED:20210304T014432Z
UID:308-1615919400-1615924800@lpchesco.com
SUMMARY:Monthly Meeting - March 2021
DESCRIPTION:Join us at our regular monthly meetings each month! During lock downs we also stream via Zoom. Sign up for our mailing list at info@chescolp.com \n6:30 pm (gathering\, socializing\, ordering food and beverages)\n7:00 pm (official start of the meeting) \nLet us know you’re coming at our Facebook page or with a quick email to info@lpchesco.com.  We look forward to seeing you there!
URL:https://lpchesco.com/event/monthly-meeting-march-2021/
LOCATION:Timothy’s West Chester\, 929 S High St\, West Chester\, PA\, 19382\, United States
CATEGORIES:Monthly Meetings
ATTACH;FMTTYPE=image/png:https://lpchesco.com/wp-content/uploads/2021/03/Timothys_GoogleMap.png
END:VEVENT
BEGIN:VEVENT
DTSTART;TZID=America/New_York:20210218T180000
DTEND;TZID=America/New_York:20210218T193000
DTSTAMP:20260423T143013
CREATED:20210118T203035Z
LAST-MODIFIED:20210118T205933Z
UID:305-1613671200-1613676600@lpchesco.com
SUMMARY:Monthly Meeting - February 2021
DESCRIPTION:Join us at our regular monthly meetings each month! During lock downs we also stream via Zoom. Sign up for our mailing list at info@chescolp.com \n6:00 pm (gathering\, socializing\, ordering food and beverages)\n6:30 pm (official start of the meeting) \nLet us know you’re coming at our Facebook page or with a quick email to info@lpchesco.com.  We look forward to seeing you there!
URL:https://lpchesco.com/event/monthly-meeting-february-2021/
LOCATION:Ryan’s Pub\, 124 W. Gay Street\, West Chester\, PA\, 19380\, United States
CATEGORIES:Monthly Meetings
ATTACH;FMTTYPE=image/png:https://lpchesco.com/wp-content/uploads/2017/10/location-meeting.png
END:VEVENT
BEGIN:VEVENT
DTSTART;TZID=America/New_York:20210121T183000
DTEND;TZID=America/New_York:20210121T200000
DTSTAMP:20260423T143013
CREATED:20210118T202408Z
LAST-MODIFIED:20210121T160436Z
UID:301-1611253800-1611259200@lpchesco.com
SUMMARY:Monthly Meeting - January 2021
DESCRIPTION:Join us at our regular monthly meetings each month! During lock downs we also stream via Zoom. Sign up for our mailing list at info@chescolp.com \n6:00 pm (gathering\, socializing\, ordering food and beverages)\n6:30 pm (official start of the meeting) \nLet us know you’re coming at our Facebook page or with a quick email to info@lpchesco.com.  We look forward to seeing you there!
URL:https://lpchesco.com/event/monthly-meeting-january-2021/
LOCATION:Ryan’s Pub\, 124 W. Gay Street\, West Chester\, PA\, 19380\, United States
CATEGORIES:Monthly Meetings
ATTACH;FMTTYPE=image/png:https://lpchesco.com/wp-content/uploads/2017/10/location-meeting.png
END:VEVENT
END:VCALENDAR